BEGIN:VCALENDAR
VERSION:2.0
PRODID:-//eventon.com NONSGML v1.0//EN
CALSCALE:GREGORIAN
METHOD:PUBLISH
BEGIN:VEVENT
UID:69e89b02867d1
DTSTAMP:20260422T095514Z
DTSTART:20251010
DTEND:20251011
LOCATION:
SUMMARY:Résidence Un pays supplémentaire
DESCRIPTION:Résidence Un pays supplémentaire\nhttps://claudinesimon.com/e
 vents/residence-un-pays-supplementaire-4/
URL:https://claudinesimon.com/events/residence-un-pays-supplementaire-4/
END:VEVENT
END:VCALENDAR