BEGIN:VCALENDAR
VERSION:2.0
PRODID:-//eventon.com NONSGML v1.0//EN
CALSCALE:GREGORIAN
METHOD:PUBLISH
BEGIN:VEVENT
UID:69e7ce1beaaf5
DTSTAMP:20260421T192059Z
DTSTART:20180911
DTEND:20180912
LOCATION:
SUMMARY:Comment s'en sortir sans sortir
DESCRIPTION:\nhttps://claudinesimon.com/events/comment-sen-sortir-sans-sort
 ir/
URL:https://claudinesimon.com/events/comment-sen-sortir-sans-sortir/
END:VEVENT
END:VCALENDAR