BEGIN:VCALENDAR
VERSION:2.0
PRODID:-//eventon.com NONSGML v1.0//EN
CALSCALE:GREGORIAN
METHOD:PUBLISH
BEGIN:VEVENT
UID:69e7b4597683a
DTSTAMP:20260421T173105Z
DTSTART:20180912
DTEND:20180913
LOCATION:
SUMMARY:Comment s'en sortir sans sortir
DESCRIPTION:Comment s'en sortir sans sortir\nhttps://claudinesimon.com/even
 ts/comment-sen-sortir-sans-sortir-2/
URL:https://claudinesimon.com/events/comment-sen-sortir-sans-sortir-2/
END:VEVENT
END:VCALENDAR