BEGIN:VCALENDAR
VERSION:2.0
PRODID:-//eventon.com NONSGML v1.0//EN
CALSCALE:GREGORIAN
METHOD:PUBLISH
BEGIN:VEVENT
UID:69e8a36d18993
DTSTAMP:20260422T103109Z
DTSTART:20180913
DTEND:20180914
LOCATION:
SUMMARY:Comment s'en sortir sans sortir
DESCRIPTION:Comment s'en sortir sans sortir\nhttps://claudinesimon.com/even
 ts/comment-sen-sortir-sans-sortir-3/
URL:https://claudinesimon.com/events/comment-sen-sortir-sans-sortir-3/
END:VEVENT
END:VCALENDAR