BEGIN:VCALENDAR
VERSION:2.0
PRODID:-//eventon.com NONSGML v1.0//EN
CALSCALE:GREGORIAN
METHOD:PUBLISH
BEGIN:VEVENT
UID:69e6139b6af71
DTSTAMP:20260420T115259Z
DTSTART:20181029T080000Z
DTEND:20181105T200000Z
LOCATION:
SUMMARY:Critical Phase - Résidence de création
DESCRIPTION:Critical Phase - Résidence de création\nhttps://claudinesimon
 .com/events/critical-phase-residence-de-creation/
URL:https://claudinesimon.com/events/critical-phase-residence-de-creation/
END:VEVENT
END:VCALENDAR