BEGIN:VCALENDAR
VERSION:2.0
PRODID:-//eventon.com NONSGML v1.0//EN
CALSCALE:GREGORIAN
METHOD:PUBLISH
BEGIN:VEVENT
UID:69ecc57e12a8b
DTSTAMP:20260425T134534Z
DTSTART:20260413
DTEND:20260414
LOCATION:
SUMMARY:Un pays supplémentaire\,  Philharmonie de Paris\,  10h30
DESCRIPTION:Un pays supplémentaire\,  Philharmonie de Paris\,  10h30\nhttp
 s://claudinesimon.com/events/un-pays-supplementaire-7/
URL:https://claudinesimon.com/events/un-pays-supplementaire-7/
END:VEVENT
END:VCALENDAR