BEGIN:VCALENDAR
VERSION:2.0
PRODID:-//eventon.com NONSGML v1.0//EN
CALSCALE:GREGORIAN
METHOD:PUBLISH
BEGIN:VEVENT
UID:69ecc5231ce43
DTSTAMP:20260425T134403Z
DTSTART:20260421
DTEND:20260422
LOCATION:
SUMMARY:Un pays supplémentaire\,  Théâtre de la Renaissance
DESCRIPTION:Un pays supplémentaire\,  Théâtre de la Renaissance\nhttps:/
 /claudinesimon.com/events/un-pays-supplementaire-8/
URL:https://claudinesimon.com/events/un-pays-supplementaire-8/
END:VEVENT
END:VCALENDAR