BEGIN:VCALENDAR
VERSION:2.0
PRODID:-//eventon.com NONSGML v1.0//EN
CALSCALE:GREGORIAN
METHOD:PUBLISH
BEGIN:VEVENT
UID:69ecc5269370c
DTSTAMP:20260425T134406Z
DTSTART:20260506
DTEND:20260507
LOCATION:
SUMMARY:Un pays supplémentaire\,  la Criée\,  15h et 19h
DESCRIPTION:Un pays supplémentaire\,  la Criée\,  15h et 19h\nhttps://cla
 udinesimon.com/events/un-pays-supplementaire-11/
URL:https://claudinesimon.com/events/un-pays-supplementaire-11/
END:VEVENT
END:VCALENDAR