BEGIN:VCALENDAR
VERSION:2.0
PRODID:-//eventon.com NONSGML v1.0//EN
CALSCALE:GREGORIAN
METHOD:PUBLISH
BEGIN:VEVENT
UID:69ecf6dc114f6
DTSTAMP:20260425T171612Z
DTSTART:20260105
DTEND:20260106
LOCATION:
SUMMARY:Résidence de création
DESCRIPTION:Résidence de création\nhttps://claudinesimon.com/events/resid
 ence-projet-rachmaninov-2/
URL:https://claudinesimon.com/events/residence-projet-rachmaninov-2/
END:VEVENT
END:VCALENDAR