BEGIN:VCALENDAR
VERSION:2.0
PRODID:-//eventon.com NONSGML v1.0//EN
CALSCALE:GREGORIAN
METHOD:PUBLISH
BEGIN:VEVENT
UID:69ecc57e12b1a
DTSTAMP:20260425T134534Z
DTSTART:20260605
DTEND:20260606
LOCATION:
SUMMARY:Anatomia\,  TAP Poitiers
DESCRIPTION:Anatomia\,  TAP Poitiers\nhttps://claudinesimon.com/events/anat
 omia-tap-poitiers/
URL:https://claudinesimon.com/events/anatomia-tap-poitiers/
END:VEVENT
END:VCALENDAR