BEGIN:VCALENDAR
VERSION:2.0
PRODID:-//eventon.com NONSGML v1.0//EN
CALSCALE:GREGORIAN
METHOD:PUBLISH
BEGIN:VEVENT
UID:69e4df22b7df5
DTSTAMP:20260419T135650Z
DTSTART:20260221
DTEND:20260222
LOCATION:
SUMMARY:Fusées\,  théâtre de l'Aquarium\,  18h
DESCRIPTION:Fusées\,  théâtre de l'Aquarium\,  18h\nhttps://claudinesimo
 n.com/events/fusees-theatre-de-laquarium-18h/
URL:https://claudinesimon.com/events/fusees-theatre-de-laquarium-18h/
END:VEVENT
END:VCALENDAR