BEGIN:VCALENDAR
VERSION:2.0
PRODID:-//eventon.com NONSGML v1.0//EN
CALSCALE:GREGORIAN
METHOD:PUBLISH
BEGIN:VEVENT
UID:69e58d379f0e3
DTSTAMP:20260420T021935Z
DTSTART:20191116
DTEND:20191117
LOCATION:
SUMMARY:Résidence pianomachine
DESCRIPTION:Résidence pianomachine\nhttps://claudinesimon.com/events/resid
 ence-pianomachine-5/
URL:https://claudinesimon.com/events/residence-pianomachine-5/
END:VEVENT
END:VCALENDAR