BEGIN:VCALENDAR
VERSION:2.0
PRODID:-//eventon.com NONSGML v1.0//EN
CALSCALE:GREGORIAN
METHOD:PUBLISH
BEGIN:VEVENT
UID:69e89e337e43c
DTSTAMP:20260422T100851Z
DTSTART:20211014
DTEND:20211015
LOCATION:
SUMMARY:Pianomachine
DESCRIPTION:Pianomachine\nhttps://claudinesimon.com/events/pianomachine-4/
URL:https://claudinesimon.com/events/pianomachine-4/
END:VEVENT
END:VCALENDAR