BEGIN:VCALENDAR
VERSION:2.0
PRODID:-//eventon.com NONSGML v1.0//EN
CALSCALE:GREGORIAN
METHOD:PUBLISH
BEGIN:VEVENT
UID:69e6013b2f5f8
DTSTAMP:20260420T103435Z
DTSTART:20211126
DTEND:20211127
LOCATION:
SUMMARY:Simon/Trelcat \,  labo pianomachine
DESCRIPTION:Simon/Trelcat \,  labo pianomachine\nhttps://claudinesimon.com/
 events/simon-trelcat-labo-pianomachine/
URL:https://claudinesimon.com/events/simon-trelcat-labo-pianomachine/
END:VEVENT
END:VCALENDAR