BEGIN:VCALENDAR
VERSION:2.0
PRODID:-//eventon.com NONSGML v1.0//EN
CALSCALE:GREGORIAN
METHOD:PUBLISH
BEGIN:VEVENT
UID:69e6173eeaeb4
DTSTAMP:20260420T120830Z
DTSTART:20211012
DTEND:20211013
LOCATION:
SUMMARY:FOSSE\,  Boltanski/Kalman/Krawczyk
DESCRIPTION:FOSSE\,  Boltanski/Kalman/Krawczyk\nhttps://claudinesimon.com/e
 vents/fosse-de-boltanski-kalman-krawczyk/
URL:https://claudinesimon.com/events/fosse-de-boltanski-kalman-krawczyk/
END:VEVENT
END:VCALENDAR