BEGIN:VCALENDAR
VERSION:2.0
PRODID:-//eventon.com NONSGML v1.0//EN
CALSCALE:GREGORIAN
METHOD:PUBLISH
BEGIN:VEVENT
UID:69e5e97e12dea
DTSTAMP:20260420T085318Z
DTSTART:20221202
DTEND:20221203
LOCATION:
SUMMARY:portraits d'ombres - création de Jean-Christophe Feldhandler
DESCRIPTION:portraits d'ombres - création de Jean-Christophe Feldhandler\n
 https://claudinesimon.com/events/portraits-dombres-creation-de-jean-christo
 phe-feldhandler/
URL:https://claudinesimon.com/events/portraits-dombres-creation-de-jean-christophe-feldhandler/
END:VEVENT
END:VCALENDAR