BEGIN:VCALENDAR
VERSION:2.0
PRODID:-//eventon.com NONSGML v1.0//EN
CALSCALE:GREGORIAN
METHOD:PUBLISH
BEGIN:VEVENT
UID:69eb2007ec2e0
DTSTAMP:20260424T074719Z
DTSTART:20231130
DTEND:20231201
LOCATION:
SUMMARY:Fresques\,  duo avec Christian Sebille
DESCRIPTION:Fresques\,  duo avec Christian Sebille\nhttps://claudinesimon.c
 om/events/fresques-duo-avec-christian-sebille/
URL:https://claudinesimon.com/events/fresques-duo-avec-christian-sebille/
END:VEVENT
END:VCALENDAR