BEGIN:VCALENDAR
VERSION:2.0
PRODID:-//eventon.com NONSGML v1.0//EN
CALSCALE:GREGORIAN
METHOD:PUBLISH
BEGIN:VEVENT
UID:69eb0d57d94ce
DTSTAMP:20260424T062735Z
DTSTART:20231213
DTEND:20231214
LOCATION:
SUMMARY:Solo récital avec conférence de Guillaume Kosmicki
DESCRIPTION:Solo récital avec conférence de Guillaume Kosmicki\nhttps://c
 laudinesimon.com/events/solo-recital-avec-conference-de-guillaume-kosmicki/
URL:https://claudinesimon.com/events/solo-recital-avec-conference-de-guillaume-kosmicki/
END:VEVENT
END:VCALENDAR