BEGIN:VCALENDAR
VERSION:2.0
PRODID:-//eventon.com NONSGML v1.0//EN
CALSCALE:GREGORIAN
METHOD:PUBLISH
BEGIN:VEVENT
UID:69eb20bba4f6e
DTSTAMP:20260424T075019Z
DTSTART:20231012T152300Z
DTEND:20231012T152300Z
LOCATION:
SUMMARY:Anatomia
DESCRIPTION:Anatomia\nhttps://claudinesimon.com/events/anatomia-2/
URL:https://claudinesimon.com/events/anatomia-2/
END:VEVENT
END:VCALENDAR