BEGIN:VCALENDAR
VERSION:2.0
PRODID:-//eventon.com NONSGML v1.0//EN
CALSCALE:GREGORIAN
METHOD:PUBLISH
BEGIN:VEVENT
UID:69e4d5d4b9aec
DTSTAMP:20260419T131708Z
DTSTART:20240504
DTEND:20240505
LOCATION:
SUMMARY:Anatomia - Malraux Scène Nationale Chambéry
DESCRIPTION:Anatomia - Malraux Scène Nationale Chambéry\nhttps://claudine
 simon.com/events/anatomia-9/
URL:https://claudinesimon.com/events/anatomia-9/
END:VEVENT
END:VCALENDAR