BEGIN:VCALENDAR
VERSION:2.0
PRODID:-//eventon.com NONSGML v1.0//EN
CALSCALE:GREGORIAN
METHOD:PUBLISH
BEGIN:VEVENT
UID:69e748b7f1ab0
DTSTAMP:20260421T095151Z
DTSTART:20170316
DTEND:20170317
LOCATION:
SUMMARY:Résidence de création -> SOLI.DES
DESCRIPTION:Résidence de création -> SOLI.DES\nhttps://claudinesimon.com/
 events/residence-de-creation-soli-des/
URL:https://claudinesimon.com/events/residence-de-creation-soli-des/
END:VEVENT
END:VCALENDAR