BEGIN:VCALENDAR
VERSION:2.0
PRODID:-//eventon.com NONSGML v1.0//EN
CALSCALE:GREGORIAN
METHOD:PUBLISH
BEGIN:VEVENT
UID:69e4c7b717b3c
DTSTAMP:20260419T121655Z
DTSTART:20250303
DTEND:20250304
LOCATION:
SUMMARY:Résidence - un pays supplémentaire\,  la POP
DESCRIPTION:Résidence - un pays supplémentaire\,  la POP\nhttps://claudin
 esimon.com/events/residence-un-pays-supplementaire-la-pop-2/
URL:https://claudinesimon.com/events/residence-un-pays-supplementaire-la-pop-2/
END:VEVENT
END:VCALENDAR