BEGIN:VCALENDAR
VERSION:2.0
PRODID:-//eventon.com NONSGML v1.0//EN
CALSCALE:GREGORIAN
METHOD:PUBLISH
BEGIN:VEVENT
UID:69e4e2f8f0c8b
DTSTAMP:20260419T141312Z
DTSTART:20250422
DTEND:20250423
LOCATION:
SUMMARY:WORKSHOP\,  projet rachmaninov
DESCRIPTION:WORKSHOP\,  projet rachmaninov\nhttps://claudinesimon.com/event
 s/residence-projet-rachmaninov/
URL:https://claudinesimon.com/events/residence-projet-rachmaninov/
END:VEVENT
END:VCALENDAR